BEGIN:VCALENDAR
VERSION:2.0
PRODID:-//The High Court Pub - ECPv6.15.14//NONSGML v1.0//EN
CALSCALE:GREGORIAN
METHOD:PUBLISH
X-ORIGINAL-URL:https://highcourtpub.com
X-WR-CALDESC:Events for The High Court Pub
REFRESH-INTERVAL;VALUE=DURATION:PT1H
X-Robots-Tag:noindex
X-PUBLISHED-TTL:PT1H
BEGIN:VTIMEZONE
TZID:America/Chicago
BEGIN:DAYLIGHT
TZOFFSETFROM:-0600
TZOFFSETTO:-0500
TZNAME:CDT
DTSTART:20230312T080000
END:DAYLIGHT
BEGIN:STANDARD
TZOFFSETFROM:-0500
TZOFFSETTO:-0600
TZNAME:CST
DTSTART:20231105T070000
END:STANDARD
BEGIN:DAYLIGHT
TZOFFSETFROM:-0600
TZOFFSETTO:-0500
TZNAME:CDT
DTSTART:20240310T080000
END:DAYLIGHT
BEGIN:STANDARD
TZOFFSETFROM:-0500
TZOFFSETTO:-0600
TZNAME:CST
DTSTART:20241103T070000
END:STANDARD
BEGIN:DAYLIGHT
TZOFFSETFROM:-0600
TZOFFSETTO:-0500
TZNAME:CDT
DTSTART:20250309T080000
END:DAYLIGHT
BEGIN:STANDARD
TZOFFSETFROM:-0500
TZOFFSETTO:-0600
TZNAME:CST
DTSTART:20251102T070000
END:STANDARD
END:VTIMEZONE
BEGIN:VEVENT
DTSTART;TZID=America/Chicago:20240906T190000
DTEND;TZID=America/Chicago:20240906T220000
DTSTAMP:20260419T151655
CREATED:20240831T014628Z
LAST-MODIFIED:20240831T014628Z
UID:13996-1725649200-1725660000@highcourtpub.com
SUMMARY:Schramm Show Live at the Pub!
DESCRIPTION:Share this:\n				Click to share on X (Opens in new window)\n				X\n			\n				Click to share on Pinterest (Opens in new window)\n				Pinterest\n			\n				Click to share on Reddit (Opens in new window)\n				Reddit\n			\n				Click to share on Tumblr (Opens in new window)\n				Tumblr\n			More\n				Click to share on Facebook (Opens in new window)\n				Facebook\n			Like this:Like Loading...
URL:https://highcourtpub.com/event/schramm-show-live-at-the-pub/
ATTACH;FMTTYPE=image/jpeg:https://highcourtpub.com/wp-content/uploads/2024/08/IMG_0905.jpeg
END:VEVENT
BEGIN:VEVENT
DTSTART;TZID=America/Chicago:20240907T190000
DTEND;TZID=America/Chicago:20240907T220000
DTSTAMP:20260419T151655
CREATED:20240831T014724Z
LAST-MODIFIED:20240831T014724Z
UID:13999-1725735600-1725746400@highcourtpub.com
SUMMARY:Almost Amish Performing live at HCP
DESCRIPTION:Share this:\n				Click to share on X (Opens in new window)\n				X\n			\n				Click to share on Pinterest (Opens in new window)\n				Pinterest\n			\n				Click to share on Reddit (Opens in new window)\n				Reddit\n			\n				Click to share on Tumblr (Opens in new window)\n				Tumblr\n			More\n				Click to share on Facebook (Opens in new window)\n				Facebook\n			Like this:Like Loading...
URL:https://highcourtpub.com/event/almost-amish-performing-live-at-hcp/
ATTACH;FMTTYPE=image/jpeg:https://highcourtpub.com/wp-content/uploads/2024/08/IMG_0907.jpeg
END:VEVENT
BEGIN:VEVENT
DTSTART;TZID=America/Chicago:20240913T190000
DTEND;TZID=America/Chicago:20240913T220000
DTSTAMP:20260419T151655
CREATED:20240831T015212Z
LAST-MODIFIED:20240831T015212Z
UID:14002-1726254000-1726264800@highcourtpub.com
SUMMARY:Nick Foytick Live at High Court
DESCRIPTION:Share this:\n				Click to share on X (Opens in new window)\n				X\n			\n				Click to share on Pinterest (Opens in new window)\n				Pinterest\n			\n				Click to share on Reddit (Opens in new window)\n				Reddit\n			\n				Click to share on Tumblr (Opens in new window)\n				Tumblr\n			More\n				Click to share on Facebook (Opens in new window)\n				Facebook\n			Like this:Like Loading...
URL:https://highcourtpub.com/event/nick-foytick-live-at-high-court/
ATTACH;FMTTYPE=image/jpeg:https://highcourtpub.com/wp-content/uploads/2024/08/IMG_0908.jpeg
END:VEVENT
BEGIN:VEVENT
DTSTART;TZID=America/Chicago:20240914T190000
DTEND;TZID=America/Chicago:20240914T220000
DTSTAMP:20260419T151655
CREATED:20240831T015301Z
LAST-MODIFIED:20240831T015301Z
UID:14005-1726340400-1726351200@highcourtpub.com
SUMMARY:Tim Dallman live at the Pub
DESCRIPTION:Share this:\n				Click to share on X (Opens in new window)\n				X\n			\n				Click to share on Pinterest (Opens in new window)\n				Pinterest\n			\n				Click to share on Reddit (Opens in new window)\n				Reddit\n			\n				Click to share on Tumblr (Opens in new window)\n				Tumblr\n			More\n				Click to share on Facebook (Opens in new window)\n				Facebook\n			Like this:Like Loading...
URL:https://highcourtpub.com/event/tim-dallman-live-at-the-pub-2/
ATTACH;FMTTYPE=image/jpeg:https://highcourtpub.com/wp-content/uploads/2024/08/IMG_0909.jpeg
END:VEVENT
BEGIN:VEVENT
DTSTART;TZID=America/Chicago:20240920T190000
DTEND;TZID=America/Chicago:20240920T220000
DTSTAMP:20260419T151655
CREATED:20240831T015641Z
LAST-MODIFIED:20240831T015641Z
UID:14008-1726858800-1726869600@highcourtpub.com
SUMMARY:My Friends and I here at High Court
DESCRIPTION:Share this:\n				Click to share on X (Opens in new window)\n				X\n			\n				Click to share on Pinterest (Opens in new window)\n				Pinterest\n			\n				Click to share on Reddit (Opens in new window)\n				Reddit\n			\n				Click to share on Tumblr (Opens in new window)\n				Tumblr\n			More\n				Click to share on Facebook (Opens in new window)\n				Facebook\n			Like this:Like Loading...
URL:https://highcourtpub.com/event/my-friends-and-i-here-at-high-court/
ATTACH;FMTTYPE=image/jpeg:https://highcourtpub.com/wp-content/uploads/2024/08/IMG_0910.jpeg
END:VEVENT
BEGIN:VEVENT
DTSTART;TZID=America/Chicago:20240921T190000
DTEND;TZID=America/Chicago:20240921T220000
DTSTAMP:20260419T151655
CREATED:20240831T015731Z
LAST-MODIFIED:20240831T015731Z
UID:14011-1726945200-1726956000@highcourtpub.com
SUMMARY:Fool’s Getaway Live at the PUB!
DESCRIPTION:Share this:\n				Click to share on X (Opens in new window)\n				X\n			\n				Click to share on Pinterest (Opens in new window)\n				Pinterest\n			\n				Click to share on Reddit (Opens in new window)\n				Reddit\n			\n				Click to share on Tumblr (Opens in new window)\n				Tumblr\n			More\n				Click to share on Facebook (Opens in new window)\n				Facebook\n			Like this:Like Loading...
URL:https://highcourtpub.com/event/fools-getaway-live-at-the-pub-3/
ATTACH;FMTTYPE=image/jpeg:https://highcourtpub.com/wp-content/uploads/2024/08/IMG_0911.jpeg
END:VEVENT
BEGIN:VEVENT
DTSTART;TZID=America/Chicago:20240927T190000
DTEND;TZID=America/Chicago:20240927T220000
DTSTAMP:20260419T151655
CREATED:20240831T020239Z
LAST-MODIFIED:20240831T020239Z
UID:14014-1727463600-1727474400@highcourtpub.com
SUMMARY:Joel Ward does his thing at High Court
DESCRIPTION:Share this:\n				Click to share on X (Opens in new window)\n				X\n			\n				Click to share on Pinterest (Opens in new window)\n				Pinterest\n			\n				Click to share on Reddit (Opens in new window)\n				Reddit\n			\n				Click to share on Tumblr (Opens in new window)\n				Tumblr\n			More\n				Click to share on Facebook (Opens in new window)\n				Facebook\n			Like this:Like Loading...
URL:https://highcourtpub.com/event/joel-ward-does-his-thing-at-high-court/
ATTACH;FMTTYPE=image/jpeg:https://highcourtpub.com/wp-content/uploads/2024/08/IMG_0912.jpeg
END:VEVENT
BEGIN:VEVENT
DTSTART;TZID=America/Chicago:20240928T190000
DTEND;TZID=America/Chicago:20240928T213000
DTSTAMP:20260419T151655
CREATED:20240831T020409Z
LAST-MODIFIED:20240831T020409Z
UID:14017-1727550000-1727559000@highcourtpub.com
SUMMARY:Nathan’s Jazzers w/Mariah Ciangiola right here at the Pub
DESCRIPTION:Share this:\n				Click to share on X (Opens in new window)\n				X\n			\n				Click to share on Pinterest (Opens in new window)\n				Pinterest\n			\n				Click to share on Reddit (Opens in new window)\n				Reddit\n			\n				Click to share on Tumblr (Opens in new window)\n				Tumblr\n			More\n				Click to share on Facebook (Opens in new window)\n				Facebook\n			Like this:Like Loading...
URL:https://highcourtpub.com/event/nathans-jazzers-w-mariah-ciangiola-right-here-at-the-pub/
ATTACH;FMTTYPE=image/jpeg:https://highcourtpub.com/wp-content/uploads/2024/08/IMG_0913.jpeg
END:VEVENT
END:VCALENDAR