BEGIN:VCALENDAR
VERSION:2.0
PRODID:-//The High Court Pub - ECPv6.15.14//NONSGML v1.0//EN
CALSCALE:GREGORIAN
METHOD:PUBLISH
X-ORIGINAL-URL:https://highcourtpub.com
X-WR-CALDESC:Events for The High Court Pub
REFRESH-INTERVAL;VALUE=DURATION:PT1H
X-Robots-Tag:noindex
X-PUBLISHED-TTL:PT1H
BEGIN:VTIMEZONE
TZID:America/Chicago
BEGIN:DAYLIGHT
TZOFFSETFROM:-0600
TZOFFSETTO:-0500
TZNAME:CDT
DTSTART:20230312T080000
END:DAYLIGHT
BEGIN:STANDARD
TZOFFSETFROM:-0500
TZOFFSETTO:-0600
TZNAME:CST
DTSTART:20231105T070000
END:STANDARD
BEGIN:DAYLIGHT
TZOFFSETFROM:-0600
TZOFFSETTO:-0500
TZNAME:CDT
DTSTART:20240310T080000
END:DAYLIGHT
BEGIN:STANDARD
TZOFFSETFROM:-0500
TZOFFSETTO:-0600
TZNAME:CST
DTSTART:20241103T070000
END:STANDARD
BEGIN:DAYLIGHT
TZOFFSETFROM:-0600
TZOFFSETTO:-0500
TZNAME:CDT
DTSTART:20250309T080000
END:DAYLIGHT
BEGIN:STANDARD
TZOFFSETFROM:-0500
TZOFFSETTO:-0600
TZNAME:CST
DTSTART:20251102T070000
END:STANDARD
END:VTIMEZONE
BEGIN:VEVENT
DTSTART;TZID=America/Chicago:20240704T190000
DTEND;TZID=America/Chicago:20240704T220000
DTSTAMP:20260419T124631
CREATED:20240627T194010Z
LAST-MODIFIED:20240627T194010Z
UID:13922-1720119600-1720130400@highcourtpub.com
SUMMARY:Tim Fast live on Thursday\, July 4th at HCP!
DESCRIPTION:Share this:\n				Click to share on X (Opens in new window)\n				X\n			\n				Click to share on Pinterest (Opens in new window)\n				Pinterest\n			\n				Click to share on Reddit (Opens in new window)\n				Reddit\n			\n				Click to share on Tumblr (Opens in new window)\n				Tumblr\n			More\n				Click to share on Facebook (Opens in new window)\n				Facebook\n			Like this:Like Loading...
URL:https://highcourtpub.com/event/tim-fast-live-on-thursday-july-4th-at-hcp/
ATTACH;FMTTYPE=image/jpeg:https://highcourtpub.com/wp-content/uploads/2024/06/IMG_0773.jpeg
END:VEVENT
BEGIN:VEVENT
DTSTART;TZID=America/Chicago:20240705T190000
DTEND;TZID=America/Chicago:20240705T220000
DTSTAMP:20260419T124631
CREATED:20240627T194639Z
LAST-MODIFIED:20240627T194842Z
UID:13925-1720206000-1720216800@highcourtpub.com
SUMMARY:Nick Foytick live at High Court Pub
DESCRIPTION:Share this:\n				Click to share on X (Opens in new window)\n				X\n			\n				Click to share on Pinterest (Opens in new window)\n				Pinterest\n			\n				Click to share on Reddit (Opens in new window)\n				Reddit\n			\n				Click to share on Tumblr (Opens in new window)\n				Tumblr\n			More\n				Click to share on Facebook (Opens in new window)\n				Facebook\n			Like this:Like Loading...
URL:https://highcourtpub.com/event/nick-foytick-live-at-high-court-pub-3/
ATTACH;FMTTYPE=image/jpeg:https://highcourtpub.com/wp-content/uploads/2024/06/IMG_0775.jpeg
END:VEVENT
BEGIN:VEVENT
DTSTART;TZID=America/Chicago:20240706T190000
DTEND;TZID=America/Chicago:20240706T220000
DTSTAMP:20260419T124631
CREATED:20240627T194931Z
LAST-MODIFIED:20240627T194931Z
UID:13928-1720292400-1720303200@highcourtpub.com
SUMMARY:My Friends & I Live at the Pub
DESCRIPTION:Share this:\n				Click to share on X (Opens in new window)\n				X\n			\n				Click to share on Pinterest (Opens in new window)\n				Pinterest\n			\n				Click to share on Reddit (Opens in new window)\n				Reddit\n			\n				Click to share on Tumblr (Opens in new window)\n				Tumblr\n			More\n				Click to share on Facebook (Opens in new window)\n				Facebook\n			Like this:Like Loading...
URL:https://highcourtpub.com/event/my-friends-i-live-at-the-pub-2/
ATTACH;FMTTYPE=image/jpeg:https://highcourtpub.com/wp-content/uploads/2024/06/IMG_0776.jpeg
END:VEVENT
BEGIN:VEVENT
DTSTART;TZID=America/Chicago:20240712T190000
DTEND;TZID=America/Chicago:20240712T210000
DTSTAMP:20260419T124631
CREATED:20240627T195239Z
LAST-MODIFIED:20240627T195239Z
UID:13931-1720810800-1720818000@highcourtpub.com
SUMMARY:Clouds So Swift here at the PUB
DESCRIPTION:Share this:\n				Click to share on X (Opens in new window)\n				X\n			\n				Click to share on Pinterest (Opens in new window)\n				Pinterest\n			\n				Click to share on Reddit (Opens in new window)\n				Reddit\n			\n				Click to share on Tumblr (Opens in new window)\n				Tumblr\n			More\n				Click to share on Facebook (Opens in new window)\n				Facebook\n			Like this:Like Loading...
URL:https://highcourtpub.com/event/clouds-so-swift-here-at-the-pub-2/
ATTACH;FMTTYPE=image/jpeg:https://highcourtpub.com/wp-content/uploads/2024/06/IMG_0777.jpeg
END:VEVENT
BEGIN:VEVENT
DTSTART;TZID=America/Chicago:20240713T190000
DTEND;TZID=America/Chicago:20240713T220000
DTSTAMP:20260419T124631
CREATED:20240627T195622Z
LAST-MODIFIED:20240627T195622Z
UID:13934-1720897200-1720908000@highcourtpub.com
SUMMARY:SCHMIDTY doing this thing here at High Court Pub
DESCRIPTION:Share this:\n				Click to share on X (Opens in new window)\n				X\n			\n				Click to share on Pinterest (Opens in new window)\n				Pinterest\n			\n				Click to share on Reddit (Opens in new window)\n				Reddit\n			\n				Click to share on Tumblr (Opens in new window)\n				Tumblr\n			More\n				Click to share on Facebook (Opens in new window)\n				Facebook\n			Like this:Like Loading...
URL:https://highcourtpub.com/event/schmidty-doing-this-thing-here-at-high-court-pub/
ATTACH;FMTTYPE=image/jpeg:https://highcourtpub.com/wp-content/uploads/2024/06/IMG_0778.jpeg
END:VEVENT
BEGIN:VEVENT
DTSTART;TZID=America/Chicago:20240719T190000
DTEND;TZID=America/Chicago:20240719T220000
DTSTAMP:20260419T124631
CREATED:20240627T195749Z
LAST-MODIFIED:20240627T195749Z
UID:13937-1721415600-1721426400@highcourtpub.com
SUMMARY:Welcome Back Tim Dallman!
DESCRIPTION:Share this:\n				Click to share on X (Opens in new window)\n				X\n			\n				Click to share on Pinterest (Opens in new window)\n				Pinterest\n			\n				Click to share on Reddit (Opens in new window)\n				Reddit\n			\n				Click to share on Tumblr (Opens in new window)\n				Tumblr\n			More\n				Click to share on Facebook (Opens in new window)\n				Facebook\n			Like this:Like Loading...
URL:https://highcourtpub.com/event/welcome-back-tim-dallman/
ATTACH;FMTTYPE=image/jpeg:https://highcourtpub.com/wp-content/uploads/2024/06/IMG_0779.jpeg
END:VEVENT
BEGIN:VEVENT
DTSTART;TZID=America/Chicago:20240720T190000
DTEND;TZID=America/Chicago:20240720T220000
DTSTAMP:20260419T124631
CREATED:20240627T200151Z
LAST-MODIFIED:20240627T200151Z
UID:13940-1721502000-1721512800@highcourtpub.com
SUMMARY:Lonesome Dan Kase live at High Court
DESCRIPTION:Share this:\n				Click to share on X (Opens in new window)\n				X\n			\n				Click to share on Pinterest (Opens in new window)\n				Pinterest\n			\n				Click to share on Reddit (Opens in new window)\n				Reddit\n			\n				Click to share on Tumblr (Opens in new window)\n				Tumblr\n			More\n				Click to share on Facebook (Opens in new window)\n				Facebook\n			Like this:Like Loading...
URL:https://highcourtpub.com/event/lonesome-dan-kase-live-at-high-court/
ATTACH;FMTTYPE=image/jpeg:https://highcourtpub.com/wp-content/uploads/2024/06/IMG_0781.jpeg
END:VEVENT
BEGIN:VEVENT
DTSTART;TZID=America/Chicago:20240721T150000
DTEND;TZID=America/Chicago:20240721T180000
DTSTAMP:20260419T124631
CREATED:20240627T200836Z
LAST-MODIFIED:20240627T200836Z
UID:13943-1721574000-1721584800@highcourtpub.com
SUMMARY:MIKE MUNSON on a SUNDAY at the PUB
DESCRIPTION:Share this:\n				Click to share on X (Opens in new window)\n				X\n			\n				Click to share on Pinterest (Opens in new window)\n				Pinterest\n			\n				Click to share on Reddit (Opens in new window)\n				Reddit\n			\n				Click to share on Tumblr (Opens in new window)\n				Tumblr\n			More\n				Click to share on Facebook (Opens in new window)\n				Facebook\n			Like this:Like Loading...
URL:https://highcourtpub.com/event/mike-munson-on-a-sunday-at-the-pub/
ATTACH;FMTTYPE=image/jpeg:https://highcourtpub.com/wp-content/uploads/2024/06/IMG_0782.jpeg
END:VEVENT
BEGIN:VEVENT
DTSTART;TZID=America/Chicago:20240727T190000
DTEND;TZID=America/Chicago:20240727T210000
DTSTAMP:20260419T124631
CREATED:20240727T144448Z
LAST-MODIFIED:20240727T144448Z
UID:13974-1722106800-1722114000@highcourtpub.com
SUMMARY:Needy Dog live at the Pub!
DESCRIPTION:Share this:\n				Click to share on X (Opens in new window)\n				X\n			\n				Click to share on Pinterest (Opens in new window)\n				Pinterest\n			\n				Click to share on Reddit (Opens in new window)\n				Reddit\n			\n				Click to share on Tumblr (Opens in new window)\n				Tumblr\n			More\n				Click to share on Facebook (Opens in new window)\n				Facebook\n			Like this:Like Loading...
URL:https://highcourtpub.com/event/needy-dog-live-at-the-pub/
ATTACH;FMTTYPE=image/jpeg:https://highcourtpub.com/wp-content/uploads/2024/07/IMG_0822.jpeg
END:VEVENT
END:VCALENDAR