BEGIN:VCALENDAR
VERSION:2.0
PRODID:-//The High Court Pub - ECPv6.15.14//NONSGML v1.0//EN
CALSCALE:GREGORIAN
METHOD:PUBLISH
X-ORIGINAL-URL:https://highcourtpub.com
X-WR-CALDESC:Events for The High Court Pub
REFRESH-INTERVAL;VALUE=DURATION:PT1H
X-Robots-Tag:noindex
X-PUBLISHED-TTL:PT1H
BEGIN:VTIMEZONE
TZID:America/Chicago
BEGIN:DAYLIGHT
TZOFFSETFROM:-0600
TZOFFSETTO:-0500
TZNAME:CDT
DTSTART:20230312T080000
END:DAYLIGHT
BEGIN:STANDARD
TZOFFSETFROM:-0500
TZOFFSETTO:-0600
TZNAME:CST
DTSTART:20231105T070000
END:STANDARD
BEGIN:DAYLIGHT
TZOFFSETFROM:-0600
TZOFFSETTO:-0500
TZNAME:CDT
DTSTART:20240310T080000
END:DAYLIGHT
BEGIN:STANDARD
TZOFFSETFROM:-0500
TZOFFSETTO:-0600
TZNAME:CST
DTSTART:20241103T070000
END:STANDARD
BEGIN:DAYLIGHT
TZOFFSETFROM:-0600
TZOFFSETTO:-0500
TZNAME:CDT
DTSTART:20250309T080000
END:DAYLIGHT
BEGIN:STANDARD
TZOFFSETFROM:-0500
TZOFFSETTO:-0600
TZNAME:CST
DTSTART:20251102T070000
END:STANDARD
END:VTIMEZONE
BEGIN:VEVENT
DTSTART;TZID=America/Chicago:20240302T180000
DTEND;TZID=America/Chicago:20240302T210000
DTSTAMP:20260421T033133
CREATED:20240213T190213Z
LAST-MODIFIED:20240213T190213Z
UID:13775-1709402400-1709413200@highcourtpub.com
SUMMARY:Chris Bertrand live at the Pub.
DESCRIPTION:Share this:\n				Click to share on X (Opens in new window)\n				X\n			\n				Click to share on Pinterest (Opens in new window)\n				Pinterest\n			\n				Click to share on Reddit (Opens in new window)\n				Reddit\n			\n				Click to share on Tumblr (Opens in new window)\n				Tumblr\n			More\n				Click to share on Facebook (Opens in new window)\n				Facebook\n			Like this:Like Loading...
URL:https://highcourtpub.com/event/chris-bertrand-live-at-the-pub/
ATTACH;FMTTYPE=image/jpeg:https://highcourtpub.com/wp-content/uploads/2024/02/IMG_0595.jpeg
END:VEVENT
BEGIN:VEVENT
DTSTART;TZID=America/Chicago:20240309T190000
DTEND;TZID=America/Chicago:20240309T220000
DTSTAMP:20260421T033133
CREATED:20240213T190408Z
LAST-MODIFIED:20240213T190408Z
UID:13778-1710010800-1710021600@highcourtpub.com
SUMMARY:Mike Munson here at High Court Pub
DESCRIPTION:Share this:\n				Click to share on X (Opens in new window)\n				X\n			\n				Click to share on Pinterest (Opens in new window)\n				Pinterest\n			\n				Click to share on Reddit (Opens in new window)\n				Reddit\n			\n				Click to share on Tumblr (Opens in new window)\n				Tumblr\n			More\n				Click to share on Facebook (Opens in new window)\n				Facebook\n			Like this:Like Loading...
URL:https://highcourtpub.com/event/mike-munson-here-at-high-court-pub/
ATTACH;FMTTYPE=image/jpeg:https://highcourtpub.com/wp-content/uploads/2024/02/IMG_0596.jpeg
END:VEVENT
BEGIN:VEVENT
DTSTART;TZID=America/Chicago:20240315T170000
DTEND;TZID=America/Chicago:20240315T220000
DTSTAMP:20260421T033133
CREATED:20240213T191206Z
LAST-MODIFIED:20240213T192014Z
UID:13781-1710522000-1710540000@highcourtpub.com
SUMMARY:Thai Kitchen Takeover Night
DESCRIPTION:Share this:\n				Click to share on X (Opens in new window)\n				X\n			\n				Click to share on Pinterest (Opens in new window)\n				Pinterest\n			\n				Click to share on Reddit (Opens in new window)\n				Reddit\n			\n				Click to share on Tumblr (Opens in new window)\n				Tumblr\n			More\n				Click to share on Facebook (Opens in new window)\n				Facebook\n			Like this:Like Loading...
URL:https://highcourtpub.com/event/thai-kitchen-takeover-night/
ATTACH;FMTTYPE=image/jpeg:https://highcourtpub.com/wp-content/uploads/2024/02/IMG_0597.jpeg
END:VEVENT
BEGIN:VEVENT
DTSTART;TZID=America/Chicago:20240316T190000
DTEND;TZID=America/Chicago:20240316T220000
DTSTAMP:20260421T033133
CREATED:20240213T192102Z
LAST-MODIFIED:20240213T192102Z
UID:13784-1710615600-1710626400@highcourtpub.com
SUMMARY:Kid Dakota at High Court!
DESCRIPTION:Share this:\n				Click to share on X (Opens in new window)\n				X\n			\n				Click to share on Pinterest (Opens in new window)\n				Pinterest\n			\n				Click to share on Reddit (Opens in new window)\n				Reddit\n			\n				Click to share on Tumblr (Opens in new window)\n				Tumblr\n			More\n				Click to share on Facebook (Opens in new window)\n				Facebook\n			Like this:Like Loading...
URL:https://highcourtpub.com/event/kid-dakota-at-high-court/
ATTACH;FMTTYPE=image/jpeg:https://highcourtpub.com/wp-content/uploads/2024/02/IMG_0598.jpeg
END:VEVENT
BEGIN:VEVENT
DTSTART;TZID=America/Chicago:20240322T183000
DTEND;TZID=America/Chicago:20240322T220000
DTSTAMP:20260421T033133
CREATED:20240213T192547Z
LAST-MODIFIED:20240213T193821Z
UID:13787-1711132200-1711144800@highcourtpub.com
SUMMARY:Our 2nd Annual Adult Prom (Fundraiser for LHS Post Prom)
DESCRIPTION:Share this:\n				Click to share on X (Opens in new window)\n				X\n			\n				Click to share on Pinterest (Opens in new window)\n				Pinterest\n			\n				Click to share on Reddit (Opens in new window)\n				Reddit\n			\n				Click to share on Tumblr (Opens in new window)\n				Tumblr\n			More\n				Click to share on Facebook (Opens in new window)\n				Facebook\n			Like this:Like Loading...
URL:https://highcourtpub.com/event/our-2nd-annual-adult-prom-fundraiser-for-lhs-post-prom/
ATTACH;FMTTYPE=image/jpeg:https://highcourtpub.com/wp-content/uploads/2024/02/IMG_0602.jpeg
END:VEVENT
BEGIN:VEVENT
DTSTART;TZID=America/Chicago:20240323T120000
DTEND;TZID=America/Chicago:20240323T190000
DTSTAMP:20260421T033133
CREATED:20240322T001245Z
LAST-MODIFIED:20240322T001253Z
UID:13834-1711195200-1711220400@highcourtpub.com
SUMMARY:Gamesboro - The Mini Game
DESCRIPTION:Share this:\n				Click to share on X (Opens in new window)\n				X\n			\n				Click to share on Pinterest (Opens in new window)\n				Pinterest\n			\n				Click to share on Reddit (Opens in new window)\n				Reddit\n			\n				Click to share on Tumblr (Opens in new window)\n				Tumblr\n			More\n				Click to share on Facebook (Opens in new window)\n				Facebook\n			Like this:Like Loading...
URL:https://highcourtpub.com/event/gamesboro-the-mini-game/
ATTACH;FMTTYPE=image/jpeg:https://highcourtpub.com/wp-content/uploads/2024/03/IMG_0652.jpeg
END:VEVENT
BEGIN:VEVENT
DTSTART;TZID=America/Chicago:20240323T190000
DTEND;TZID=America/Chicago:20240323T220000
DTSTAMP:20260421T033133
CREATED:20240213T192846Z
LAST-MODIFIED:20240213T192946Z
UID:13790-1711220400-1711231200@highcourtpub.com
SUMMARY:Don Harvey live at High Court Pub
DESCRIPTION:Share this:\n				Click to share on X (Opens in new window)\n				X\n			\n				Click to share on Pinterest (Opens in new window)\n				Pinterest\n			\n				Click to share on Reddit (Opens in new window)\n				Reddit\n			\n				Click to share on Tumblr (Opens in new window)\n				Tumblr\n			More\n				Click to share on Facebook (Opens in new window)\n				Facebook\n			Like this:Like Loading...
URL:https://highcourtpub.com/event/don-harvey-live-at-high-court-pub/
ATTACH;FMTTYPE=image/jpeg:https://highcourtpub.com/wp-content/uploads/2024/02/IMG_0600.jpeg
END:VEVENT
BEGIN:VEVENT
DTSTART;TZID=America/Chicago:20240330T190000
DTEND;TZID=America/Chicago:20240330T220000
DTSTAMP:20260421T033133
CREATED:20240213T193043Z
LAST-MODIFIED:20240213T193043Z
UID:13793-1711825200-1711836000@highcourtpub.com
SUMMARY:Tim Dallman live at High Court Pub
DESCRIPTION:Share this:\n				Click to share on X (Opens in new window)\n				X\n			\n				Click to share on Pinterest (Opens in new window)\n				Pinterest\n			\n				Click to share on Reddit (Opens in new window)\n				Reddit\n			\n				Click to share on Tumblr (Opens in new window)\n				Tumblr\n			More\n				Click to share on Facebook (Opens in new window)\n				Facebook\n			Like this:Like Loading...
URL:https://highcourtpub.com/event/tim-dallman-live-at-high-court-pub/
ATTACH;FMTTYPE=image/jpeg:https://highcourtpub.com/wp-content/uploads/2024/02/IMG_0601.jpeg
END:VEVENT
END:VCALENDAR