BEGIN:VCALENDAR
VERSION:2.0
PRODID:-//The High Court Pub - ECPv6.15.14//NONSGML v1.0//EN
CALSCALE:GREGORIAN
METHOD:PUBLISH
X-WR-CALNAME:The High Court Pub
X-ORIGINAL-URL:https://highcourtpub.com
X-WR-CALDESC:Events for The High Court Pub
REFRESH-INTERVAL;VALUE=DURATION:PT1H
X-Robots-Tag:noindex
X-PUBLISHED-TTL:PT1H
BEGIN:VTIMEZONE
TZID:America/Chicago
BEGIN:DAYLIGHT
TZOFFSETFROM:-0600
TZOFFSETTO:-0500
TZNAME:CDT
DTSTART:20220313T080000
END:DAYLIGHT
BEGIN:STANDARD
TZOFFSETFROM:-0500
TZOFFSETTO:-0600
TZNAME:CST
DTSTART:20221106T070000
END:STANDARD
BEGIN:DAYLIGHT
TZOFFSETFROM:-0600
TZOFFSETTO:-0500
TZNAME:CDT
DTSTART:20230312T080000
END:DAYLIGHT
BEGIN:STANDARD
TZOFFSETFROM:-0500
TZOFFSETTO:-0600
TZNAME:CST
DTSTART:20231105T070000
END:STANDARD
BEGIN:DAYLIGHT
TZOFFSETFROM:-0600
TZOFFSETTO:-0500
TZNAME:CDT
DTSTART:20240310T080000
END:DAYLIGHT
BEGIN:STANDARD
TZOFFSETFROM:-0500
TZOFFSETTO:-0600
TZNAME:CST
DTSTART:20241103T070000
END:STANDARD
END:VTIMEZONE
BEGIN:VEVENT
DTSTART;TZID=America/Chicago:20230602T190000
DTEND;TZID=America/Chicago:20230602T220000
DTSTAMP:20260423T050541
CREATED:20230522T025129Z
LAST-MODIFIED:20230522T025139Z
UID:13500-1685732400-1685743200@highcourtpub.com
SUMMARY:Nick Foytick live at the High Court Pub
DESCRIPTION:Share this:\n				Click to share on X (Opens in new window)\n				X\n			\n				Click to share on Pinterest (Opens in new window)\n				Pinterest\n			\n				Click to share on Reddit (Opens in new window)\n				Reddit\n			\n				Click to share on Tumblr (Opens in new window)\n				Tumblr\n			More\n				Click to share on Facebook (Opens in new window)\n				Facebook\n			Like this:Like Loading...
URL:https://highcourtpub.com/event/nick-foytick-live-at-the-high-court-pub/
ATTACH;FMTTYPE=image/jpeg:https://highcourtpub.com/wp-content/uploads/2023/05/IMG_0159.jpeg
END:VEVENT
BEGIN:VEVENT
DTSTART;TZID=America/Chicago:20230603T190000
DTEND;TZID=America/Chicago:20230603T220000
DTSTAMP:20260423T050541
CREATED:20230522T031722Z
LAST-MODIFIED:20230522T031728Z
UID:13503-1685818800-1685829600@highcourtpub.com
SUMMARY:Tim Fast live at the High Court Pub
DESCRIPTION:Share this:\n				Click to share on X (Opens in new window)\n				X\n			\n				Click to share on Pinterest (Opens in new window)\n				Pinterest\n			\n				Click to share on Reddit (Opens in new window)\n				Reddit\n			\n				Click to share on Tumblr (Opens in new window)\n				Tumblr\n			More\n				Click to share on Facebook (Opens in new window)\n				Facebook\n			Like this:Like Loading...
URL:https://highcourtpub.com/event/tim-fast-live-at-the-high-court-pub/
ATTACH;FMTTYPE=image/jpeg:https://highcourtpub.com/wp-content/uploads/2023/05/IMG_0161.jpeg
END:VEVENT
BEGIN:VEVENT
DTSTART;TZID=America/Chicago:20230609T190000
DTEND;TZID=America/Chicago:20230609T220000
DTSTAMP:20260423T050541
CREATED:20230522T032911Z
LAST-MODIFIED:20230522T032917Z
UID:13506-1686337200-1686348000@highcourtpub.com
SUMMARY:Clay Fulton live at the High Court Pub
DESCRIPTION:Share this:\n				Click to share on X (Opens in new window)\n				X\n			\n				Click to share on Pinterest (Opens in new window)\n				Pinterest\n			\n				Click to share on Reddit (Opens in new window)\n				Reddit\n			\n				Click to share on Tumblr (Opens in new window)\n				Tumblr\n			More\n				Click to share on Facebook (Opens in new window)\n				Facebook\n			Like this:Like Loading...
URL:https://highcourtpub.com/event/clay-fulton-live-at-the-high-court-pub/
ATTACH;FMTTYPE=image/jpeg:https://highcourtpub.com/wp-content/uploads/2023/05/IMG_0163.jpeg
END:VEVENT
BEGIN:VEVENT
DTSTART;TZID=America/Chicago:20230610T200000
DTEND;TZID=America/Chicago:20230610T230000
DTSTAMP:20260423T050541
CREATED:20230604T174552Z
LAST-MODIFIED:20230604T174559Z
UID:13526-1686427200-1686438000@highcourtpub.com
SUMMARY:Rustic Moon at High Court Pub
DESCRIPTION:Share this:\n				Click to share on X (Opens in new window)\n				X\n			\n				Click to share on Pinterest (Opens in new window)\n				Pinterest\n			\n				Click to share on Reddit (Opens in new window)\n				Reddit\n			\n				Click to share on Tumblr (Opens in new window)\n				Tumblr\n			More\n				Click to share on Facebook (Opens in new window)\n				Facebook\n			Like this:Like Loading...
URL:https://highcourtpub.com/event/rustic-moon-at-high-court-pub/
ATTACH;FMTTYPE=image/jpeg:https://highcourtpub.com/wp-content/uploads/2023/06/IMG_0205.jpeg
END:VEVENT
BEGIN:VEVENT
DTSTART;TZID=America/Chicago:20230616T190000
DTEND;TZID=America/Chicago:20230616T220000
DTSTAMP:20260423T050541
CREATED:20230611T173222Z
LAST-MODIFIED:20230611T174115Z
UID:13532-1686942000-1686952800@highcourtpub.com
SUMMARY:Ryan Howe live at the High Court Pub
DESCRIPTION:Share this:\n				Click to share on X (Opens in new window)\n				X\n			\n				Click to share on Pinterest (Opens in new window)\n				Pinterest\n			\n				Click to share on Reddit (Opens in new window)\n				Reddit\n			\n				Click to share on Tumblr (Opens in new window)\n				Tumblr\n			More\n				Click to share on Facebook (Opens in new window)\n				Facebook\n			Like this:Like Loading...
URL:https://highcourtpub.com/event/ryan-howe-live-at-the-high-court-pub/
ATTACH;FMTTYPE=image/jpeg:https://highcourtpub.com/wp-content/uploads/2023/06/IMG_0212.jpeg
END:VEVENT
BEGIN:VEVENT
DTSTART;TZID=America/Chicago:20230617T190000
DTEND;TZID=America/Chicago:20230617T220000
DTSTAMP:20260423T050541
CREATED:20230522T033726Z
LAST-MODIFIED:20230522T033910Z
UID:13509-1687028400-1687039200@highcourtpub.com
SUMMARY:True North live here at the High Court Pub
DESCRIPTION:Share this:\n				Click to share on X (Opens in new window)\n				X\n			\n				Click to share on Pinterest (Opens in new window)\n				Pinterest\n			\n				Click to share on Reddit (Opens in new window)\n				Reddit\n			\n				Click to share on Tumblr (Opens in new window)\n				Tumblr\n			More\n				Click to share on Facebook (Opens in new window)\n				Facebook\n			Like this:Like Loading...
URL:https://highcourtpub.com/event/true-north-live-here-at-the-high-court-pub/
ATTACH;FMTTYPE=image/jpeg:https://highcourtpub.com/wp-content/uploads/2023/05/IMG_0167.jpeg
END:VEVENT
BEGIN:VEVENT
DTSTART;TZID=America/Chicago:20230624T190000
DTEND;TZID=America/Chicago:20230624T220000
DTSTAMP:20260423T050541
CREATED:20230611T174215Z
LAST-MODIFIED:20230611T175113Z
UID:13535-1687633200-1687644000@highcourtpub.com
SUMMARY:Joel Ward live here at High Court Pub
DESCRIPTION:Share this:\n				Click to share on X (Opens in new window)\n				X\n			\n				Click to share on Pinterest (Opens in new window)\n				Pinterest\n			\n				Click to share on Reddit (Opens in new window)\n				Reddit\n			\n				Click to share on Tumblr (Opens in new window)\n				Tumblr\n			More\n				Click to share on Facebook (Opens in new window)\n				Facebook\n			Like this:Like Loading...
URL:https://highcourtpub.com/event/joel-ward-live-here-at-high-court-pub/
ATTACH;FMTTYPE=image/jpeg:https://highcourtpub.com/wp-content/uploads/2023/06/IMG_0214.jpeg
END:VEVENT
END:VCALENDAR