BEGIN:VCALENDAR
VERSION:2.0
PRODID:-//The High Court Pub - ECPv6.15.14//NONSGML v1.0//EN
CALSCALE:GREGORIAN
METHOD:PUBLISH
X-WR-CALNAME:The High Court Pub
X-ORIGINAL-URL:https://highcourtpub.com
X-WR-CALDESC:Events for The High Court Pub
REFRESH-INTERVAL;VALUE=DURATION:PT1H
X-Robots-Tag:noindex
X-PUBLISHED-TTL:PT1H
BEGIN:VTIMEZONE
TZID:America/Chicago
BEGIN:DAYLIGHT
TZOFFSETFROM:-0600
TZOFFSETTO:-0500
TZNAME:CDT
DTSTART:20210314T080000
END:DAYLIGHT
BEGIN:STANDARD
TZOFFSETFROM:-0500
TZOFFSETTO:-0600
TZNAME:CST
DTSTART:20211107T070000
END:STANDARD
BEGIN:DAYLIGHT
TZOFFSETFROM:-0600
TZOFFSETTO:-0500
TZNAME:CDT
DTSTART:20220313T080000
END:DAYLIGHT
BEGIN:STANDARD
TZOFFSETFROM:-0500
TZOFFSETTO:-0600
TZNAME:CST
DTSTART:20221106T070000
END:STANDARD
BEGIN:DAYLIGHT
TZOFFSETFROM:-0600
TZOFFSETTO:-0500
TZNAME:CDT
DTSTART:20230312T080000
END:DAYLIGHT
BEGIN:STANDARD
TZOFFSETFROM:-0500
TZOFFSETTO:-0600
TZNAME:CST
DTSTART:20231105T070000
END:STANDARD
END:VTIMEZONE
BEGIN:VEVENT
DTSTART;TZID=America/Chicago:20221105T190000
DTEND;TZID=America/Chicago:20221105T190000
DTSTAMP:20260423T145642
CREATED:20220902T190728Z
LAST-MODIFIED:20220902T190728Z
UID:11924-1667674800-1667674800@highcourtpub.com
SUMMARY:Lonesome Dan Kase - Country Blues
DESCRIPTION:Lonesome Dan – A man who knows Country Blues showcasing his unique finger-picking style and warm vocals. \nShare this:\n				Click to share on X (Opens in new window)\n				X\n			\n				Click to share on Pinterest (Opens in new window)\n				Pinterest\n			\n				Click to share on Reddit (Opens in new window)\n				Reddit\n			\n				Click to share on Tumblr (Opens in new window)\n				Tumblr\n			More\n				Click to share on Facebook (Opens in new window)\n				Facebook\n			Like this:Like Loading...
URL:https://highcourtpub.com/event/lonesome-dan-kase-country-blues/
LOCATION:High Court Pub\, 109 Parkway Ave N.\, Lanesboro\, MN\, 55949\, United States
END:VEVENT
BEGIN:VEVENT
DTSTART;TZID=America/Chicago:20221108T190000
DTEND;TZID=America/Chicago:20221108T190000
DTSTAMP:20260423T145642
CREATED:20221103T184325Z
LAST-MODIFIED:20221103T184325Z
UID:12258-1667934000-1667934000@highcourtpub.com
SUMMARY:Tuesday Trivia
DESCRIPTION:Come on Your Own or Come with a Team!\nYou self grade each round and your host picks up sheets at end.\nPrizes: $25 gift card Grand prize good for your next visit to the Pub. Come to Trivia after Like & Sharing the weekly FB post for a chance at an extra prize. Random prizes are also awarded.\nThere are three rounds of ten questions. Be Honest!! You grade yourself when we go over the questions & answers at end of rounds.\nHost comes around after the final round to collect names and scores\, Names and scores announced from last place to winner!! Like & Share prize\, hats\, chips\, and other prizes award at game end. The decision of the Host related to all things Trivia is FINAL!!!\nShare this:\n				Click to share on X (Opens in new window)\n				X\n			\n				Click to share on Pinterest (Opens in new window)\n				Pinterest\n			\n				Click to share on Reddit (Opens in new window)\n				Reddit\n			\n				Click to share on Tumblr (Opens in new window)\n				Tumblr\n			More\n				Click to share on Facebook (Opens in new window)\n				Facebook\n			Like this:Like Loading...
URL:https://highcourtpub.com/event/tuesday-trivia-104/
LOCATION:High Court Pub\, 109 Parkway Ave N.\, Lanesboro\, MN\, 55949\, United States
END:VEVENT
BEGIN:VEVENT
DTSTART;TZID=America/Chicago:20221110T190000
DTEND;TZID=America/Chicago:20221110T190000
DTSTAMP:20260423T145642
CREATED:20221103T181655Z
LAST-MODIFIED:20221103T181655Z
UID:12237-1668106800-1668106800@highcourtpub.com
SUMMARY:Open MIC Thursday!
DESCRIPTION:Come to Listen or Come to Play! Join our host for a night of music\, stories\, poems! Open to all experience levels. You’ll love the local talent! \nShare this:\n				Click to share on X (Opens in new window)\n				X\n			\n				Click to share on Pinterest (Opens in new window)\n				Pinterest\n			\n				Click to share on Reddit (Opens in new window)\n				Reddit\n			\n				Click to share on Tumblr (Opens in new window)\n				Tumblr\n			More\n				Click to share on Facebook (Opens in new window)\n				Facebook\n			Like this:Like Loading...
URL:https://highcourtpub.com/event/open-mic-thursday-3/
LOCATION:High Court Pub\, 109 Parkway Ave N.\, Lanesboro\, MN\, 55949\, United States
END:VEVENT
BEGIN:VEVENT
DTSTART;TZID=America/Chicago:20221112T190000
DTEND;TZID=America/Chicago:20221112T190000
DTSTAMP:20260423T145642
CREATED:20220902T191916Z
LAST-MODIFIED:20220902T191916Z
UID:11933-1668279600-1668279600@highcourtpub.com
SUMMARY:Charlie Warner - Folk\, Rock\, & Blues
DESCRIPTION:Charlie’s acoustic sound will have you tappin’ your toes. \nShare this:\n				Click to share on X (Opens in new window)\n				X\n			\n				Click to share on Pinterest (Opens in new window)\n				Pinterest\n			\n				Click to share on Reddit (Opens in new window)\n				Reddit\n			\n				Click to share on Tumblr (Opens in new window)\n				Tumblr\n			More\n				Click to share on Facebook (Opens in new window)\n				Facebook\n			Like this:Like Loading...
URL:https://highcourtpub.com/event/charlie-warner-folk-rock-blues-2/
LOCATION:High Court Pub\, 109 Parkway Ave N.\, Lanesboro\, MN\, 55949\, United States
END:VEVENT
BEGIN:VEVENT
DTSTART;TZID=America/Chicago:20221115T190000
DTEND;TZID=America/Chicago:20221115T190000
DTSTAMP:20260423T145642
CREATED:20221103T184440Z
LAST-MODIFIED:20221103T184440Z
UID:12260-1668538800-1668538800@highcourtpub.com
SUMMARY:Tuesday Trivia
DESCRIPTION:Come on Your Own or Come with a Team!\nYou self grade each round and your host picks up sheets at end.\nPrizes: $25 gift card Grand prize good for your next visit to the Pub. Come to Trivia after Like & Sharing the weekly FB post for a chance at an extra prize. Random prizes are also awarded.\nThere are three rounds of ten questions. Be Honest!! You grade yourself when we go over the questions & answers at end of rounds.\nHost comes around after the final round to collect names and scores\, Names and scores announced from last place to winner!! Like & Share prize\, hats\, chips\, and other prizes award at game end. The decision of the Host related to all things Trivia is FINAL!!!\nShare this:\n				Click to share on X (Opens in new window)\n				X\n			\n				Click to share on Pinterest (Opens in new window)\n				Pinterest\n			\n				Click to share on Reddit (Opens in new window)\n				Reddit\n			\n				Click to share on Tumblr (Opens in new window)\n				Tumblr\n			More\n				Click to share on Facebook (Opens in new window)\n				Facebook\n			Like this:Like Loading...
URL:https://highcourtpub.com/event/tuesday-trivia-105/
LOCATION:High Court Pub\, 109 Parkway Ave N.\, Lanesboro\, MN\, 55949\, United States
END:VEVENT
BEGIN:VEVENT
DTSTART;TZID=America/Chicago:20221117T190000
DTEND;TZID=America/Chicago:20221117T190000
DTSTAMP:20260423T145642
CREATED:20221103T181851Z
LAST-MODIFIED:20221103T181851Z
UID:12240-1668711600-1668711600@highcourtpub.com
SUMMARY:Open MIC Thursday
DESCRIPTION:Come to Listen or Come to Play! Join our host for a night of music\, stories\, poems! Open to all experience levels. You’ll love the local talent! \nShare this:\n				Click to share on X (Opens in new window)\n				X\n			\n				Click to share on Pinterest (Opens in new window)\n				Pinterest\n			\n				Click to share on Reddit (Opens in new window)\n				Reddit\n			\n				Click to share on Tumblr (Opens in new window)\n				Tumblr\n			More\n				Click to share on Facebook (Opens in new window)\n				Facebook\n			Like this:Like Loading...
URL:https://highcourtpub.com/event/open-mic-thursday-4/
LOCATION:High Court Pub\, 109 Parkway Ave N.\, Lanesboro\, MN\, 55949\, United States
END:VEVENT
BEGIN:VEVENT
DTSTART;TZID=America/Chicago:20221119T190000
DTEND;TZID=America/Chicago:20221119T190000
DTSTAMP:20260423T145642
CREATED:20220902T192528Z
LAST-MODIFIED:20220902T192528Z
UID:11935-1668884400-1668884400@highcourtpub.com
SUMMARY:Mike Munson Brings you the Blues!
DESCRIPTION:Mike is a master of the Blues. \nShare this:\n				Click to share on X (Opens in new window)\n				X\n			\n				Click to share on Pinterest (Opens in new window)\n				Pinterest\n			\n				Click to share on Reddit (Opens in new window)\n				Reddit\n			\n				Click to share on Tumblr (Opens in new window)\n				Tumblr\n			More\n				Click to share on Facebook (Opens in new window)\n				Facebook\n			Like this:Like Loading...
URL:https://highcourtpub.com/event/mike-munson-brings-you-the-blues/
LOCATION:High Court Pub\, 109 Parkway Ave N.\, Lanesboro\, MN\, 55949\, United States
END:VEVENT
BEGIN:VEVENT
DTSTART;TZID=America/Chicago:20221122T190000
DTEND;TZID=America/Chicago:20221122T190000
DTSTAMP:20260423T145642
CREATED:20221103T184542Z
LAST-MODIFIED:20221103T184542Z
UID:12262-1669143600-1669143600@highcourtpub.com
SUMMARY:Tuesday Trivia
DESCRIPTION:Come on Your Own or Come with a Team!\nYou self grade each round and your host picks up sheets at end.\nPrizes: $25 gift card Grand prize good for your next visit to the Pub. Come to Trivia after Like & Sharing the weekly FB post for a chance at an extra prize. Random prizes are also awarded.\nThere are three rounds of ten questions. Be Honest!! You grade yourself when we go over the questions & answers at end of rounds.\nHost comes around after the final round to collect names and scores\, Names and scores announced from last place to winner!! Like & Share prize\, hats\, chips\, and other prizes award at game end. The decision of the Host related to all things Trivia is FINAL!!!\nShare this:\n				Click to share on X (Opens in new window)\n				X\n			\n				Click to share on Pinterest (Opens in new window)\n				Pinterest\n			\n				Click to share on Reddit (Opens in new window)\n				Reddit\n			\n				Click to share on Tumblr (Opens in new window)\n				Tumblr\n			More\n				Click to share on Facebook (Opens in new window)\n				Facebook\n			Like this:Like Loading...
URL:https://highcourtpub.com/event/tuesday-trivia-106/
LOCATION:High Court Pub\, 109 Parkway Ave N.\, Lanesboro\, MN\, 55949\, United States
END:VEVENT
BEGIN:VEVENT
DTSTART;TZID=America/Chicago:20221123T193000
DTEND;TZID=America/Chicago:20221123T193000
DTSTAMP:20260423T145642
CREATED:20221031T154830Z
LAST-MODIFIED:20221103T175926Z
UID:12209-1669231800-1669231800@highcourtpub.com
SUMMARY:Turkey Bowling - A Lanesboro Tradition
DESCRIPTION:Just you and a frozen turkey staring down that straw bale alley!\nJoin in raising money for Lanesboro HS Seniors Spring Class Trip. It’s all about the bragging rights with First & Second place trophies! \nShare this:\n				Click to share on X (Opens in new window)\n				X\n			\n				Click to share on Pinterest (Opens in new window)\n				Pinterest\n			\n				Click to share on Reddit (Opens in new window)\n				Reddit\n			\n				Click to share on Tumblr (Opens in new window)\n				Tumblr\n			More\n				Click to share on Facebook (Opens in new window)\n				Facebook\n			Like this:Like Loading...
URL:https://highcourtpub.com/event/turkey-bowling-a-lanesboro-tradition/
LOCATION:High Court Pub\, 109 Parkway Ave N.\, Lanesboro\, MN\, 55949\, United States
END:VEVENT
BEGIN:VEVENT
DTSTART;TZID=America/Chicago:20221126T190000
DTEND;TZID=America/Chicago:20221126T190000
DTSTAMP:20260423T145642
CREATED:20220902T193032Z
LAST-MODIFIED:20220902T193032Z
UID:11937-1669489200-1669489200@highcourtpub.com
SUMMARY:Joel Ward - Americana\, Original Roots\, & Soul
DESCRIPTION:Joel brings a great acoustic sound \nShare this:\n				Click to share on X (Opens in new window)\n				X\n			\n				Click to share on Pinterest (Opens in new window)\n				Pinterest\n			\n				Click to share on Reddit (Opens in new window)\n				Reddit\n			\n				Click to share on Tumblr (Opens in new window)\n				Tumblr\n			More\n				Click to share on Facebook (Opens in new window)\n				Facebook\n			Like this:Like Loading...
URL:https://highcourtpub.com/event/joel-ward-americana-original-roots-soul-4/
LOCATION:High Court Pub\, 109 Parkway Ave N.\, Lanesboro\, MN\, 55949\, United States
END:VEVENT
BEGIN:VEVENT
DTSTART;TZID=America/Chicago:20221129T190000
DTEND;TZID=America/Chicago:20221129T190000
DTSTAMP:20260423T145642
CREATED:20221103T184712Z
LAST-MODIFIED:20221103T184712Z
UID:12264-1669748400-1669748400@highcourtpub.com
SUMMARY:Tuesday Trivia
DESCRIPTION:Come on Your Own or Come with a Team!\nYou self grade each round and your host picks up sheets at end.\nPrizes: $25 gift card Grand prize good for your next visit to the Pub. Come to Trivia after Like & Sharing the weekly FB post for a chance at an extra prize. Random prizes are also awarded.\nThere are three rounds of ten questions. Be Honest!! You grade yourself when we go over the questions & answers at end of rounds.\nHost comes around after the final round to collect names and scores\, Names and scores announced from last place to winner!! Like & Share prize\, hats\, chips\, and other prizes award at game end. The decision of the Host related to all things Trivia is FINAL!!!\nShare this:\n				Click to share on X (Opens in new window)\n				X\n			\n				Click to share on Pinterest (Opens in new window)\n				Pinterest\n			\n				Click to share on Reddit (Opens in new window)\n				Reddit\n			\n				Click to share on Tumblr (Opens in new window)\n				Tumblr\n			More\n				Click to share on Facebook (Opens in new window)\n				Facebook\n			Like this:Like Loading...
URL:https://highcourtpub.com/event/tuesday-trivia-107/
LOCATION:High Court Pub\, 109 Parkway Ave N.\, Lanesboro\, MN\, 55949\, United States
END:VEVENT
END:VCALENDAR