BEGIN:VCALENDAR
VERSION:2.0
PRODID:-//The High Court Pub - ECPv6.15.14//NONSGML v1.0//EN
CALSCALE:GREGORIAN
METHOD:PUBLISH
X-WR-CALNAME:The High Court Pub
X-ORIGINAL-URL:https://highcourtpub.com
X-WR-CALDESC:Events for The High Court Pub
REFRESH-INTERVAL;VALUE=DURATION:PT1H
X-Robots-Tag:noindex
X-PUBLISHED-TTL:PT1H
BEGIN:VTIMEZONE
TZID:America/Chicago
BEGIN:DAYLIGHT
TZOFFSETFROM:-0600
TZOFFSETTO:-0500
TZNAME:CDT
DTSTART:20220313T080000
END:DAYLIGHT
BEGIN:STANDARD
TZOFFSETFROM:-0500
TZOFFSETTO:-0600
TZNAME:CST
DTSTART:20221106T070000
END:STANDARD
BEGIN:DAYLIGHT
TZOFFSETFROM:-0600
TZOFFSETTO:-0500
TZNAME:CDT
DTSTART:20230312T080000
END:DAYLIGHT
BEGIN:STANDARD
TZOFFSETFROM:-0500
TZOFFSETTO:-0600
TZNAME:CST
DTSTART:20231105T070000
END:STANDARD
BEGIN:DAYLIGHT
TZOFFSETFROM:-0600
TZOFFSETTO:-0500
TZNAME:CDT
DTSTART:20240310T080000
END:DAYLIGHT
BEGIN:STANDARD
TZOFFSETFROM:-0500
TZOFFSETTO:-0600
TZNAME:CST
DTSTART:20241103T070000
END:STANDARD
END:VTIMEZONE
BEGIN:VEVENT
DTSTART;VALUE=DATE:20230421
DTEND;VALUE=DATE:20230423
DTSTAMP:20260423T091732
CREATED:20230327T225833Z
LAST-MODIFIED:20230327T233003Z
UID:13409-1682035200-1682207999@highcourtpub.com
SUMMARY:The 6th Annual Squirrelly with Surly Pub Crawl and Tap Takeover
DESCRIPTION:Share this:\n				Click to share on X (Opens in new window)\n				X\n			\n				Click to share on Pinterest (Opens in new window)\n				Pinterest\n			\n				Click to share on Reddit (Opens in new window)\n				Reddit\n			\n				Click to share on Tumblr (Opens in new window)\n				Tumblr\n			More\n				Click to share on Facebook (Opens in new window)\n				Facebook\n			Like this:Like Loading...
URL:https://highcourtpub.com/event/13409/
ATTACH;FMTTYPE=image/jpeg:https://highcourtpub.com/wp-content/uploads/2023/03/858CDB3A-E1D8-4327-A0CD-0D3ADF9C3B7D.jpeg
END:VEVENT
END:VCALENDAR