BEGIN:VCALENDAR
VERSION:2.0
PRODID:-//The High Court Pub - ECPv6.15.14//NONSGML v1.0//EN
CALSCALE:GREGORIAN
METHOD:PUBLISH
X-ORIGINAL-URL:https://highcourtpub.com
X-WR-CALDESC:Events for The High Court Pub
REFRESH-INTERVAL;VALUE=DURATION:PT1H
X-Robots-Tag:noindex
X-PUBLISHED-TTL:PT1H
BEGIN:VTIMEZONE
TZID:America/Chicago
BEGIN:DAYLIGHT
TZOFFSETFROM:-0600
TZOFFSETTO:-0500
TZNAME:CDT
DTSTART:20210314T080000
END:DAYLIGHT
BEGIN:STANDARD
TZOFFSETFROM:-0500
TZOFFSETTO:-0600
TZNAME:CST
DTSTART:20211107T070000
END:STANDARD
BEGIN:DAYLIGHT
TZOFFSETFROM:-0600
TZOFFSETTO:-0500
TZNAME:CDT
DTSTART:20220313T080000
END:DAYLIGHT
BEGIN:STANDARD
TZOFFSETFROM:-0500
TZOFFSETTO:-0600
TZNAME:CST
DTSTART:20221106T070000
END:STANDARD
BEGIN:DAYLIGHT
TZOFFSETFROM:-0600
TZOFFSETTO:-0500
TZNAME:CDT
DTSTART:20230312T080000
END:DAYLIGHT
BEGIN:STANDARD
TZOFFSETFROM:-0500
TZOFFSETTO:-0600
TZNAME:CST
DTSTART:20231105T070000
END:STANDARD
END:VTIMEZONE
BEGIN:VEVENT
DTSTART;TZID=America/Chicago:20221213T190000
DTEND;TZID=America/Chicago:20221213T190000
DTSTAMP:20260423T145643
CREATED:20221103T185012Z
LAST-MODIFIED:20221103T185012Z
UID:12269-1670958000-1670958000@highcourtpub.com
SUMMARY:Tuesday Trivia
DESCRIPTION:Come on Your Own or Come with a Team!\nYou self grade each round and your host picks up sheets at end.\nPrizes: $25 gift card Grand prize good for your next visit to the Pub. Come to Trivia after Like & Sharing the weekly FB post for a chance at an extra prize. Random prizes are also awarded.\nThere are three rounds of ten questions. Be Honest!! You grade yourself when we go over the questions & answers at end of rounds.\nHost comes around after the final round to collect names and scores\, Names and scores announced from last place to winner!! Like & Share prize\, hats\, chips\, and other prizes award at game end. The decision of the Host related to all things Trivia is FINAL!!!\nShare this:\n				Click to share on X (Opens in new window)\n				X\n			\n				Click to share on Pinterest (Opens in new window)\n				Pinterest\n			\n				Click to share on Reddit (Opens in new window)\n				Reddit\n			\n				Click to share on Tumblr (Opens in new window)\n				Tumblr\n			More\n				Click to share on Facebook (Opens in new window)\n				Facebook\n			Like this:Like Loading...
URL:https://highcourtpub.com/event/tuesday-trivia-109/
LOCATION:High Court Pub\, 109 Parkway Ave N.\, Lanesboro\, MN\, 55949\, United States
END:VEVENT
END:VCALENDAR